BEGIN:VCALENDAR
VERSION:2.0
PRODID:-//Ysgol Bro Gwaun - ECPv6.15.20//NONSGML v1.0//EN
CALSCALE:GREGORIAN
METHOD:PUBLISH
X-ORIGINAL-URL:https://ysgolbrogwaun.com/cy
X-WR-CALDESC:Events for Ysgol Bro Gwaun
REFRESH-INTERVAL;VALUE=DURATION:PT1H
X-Robots-Tag:noindex
X-PUBLISHED-TTL:PT1H
BEGIN:VTIMEZONE
TZID:Europe/London
BEGIN:DAYLIGHT
TZOFFSETFROM:+0000
TZOFFSETTO:+0100
TZNAME:BST
DTSTART:20230326T010000
END:DAYLIGHT
BEGIN:STANDARD
TZOFFSETFROM:+0100
TZOFFSETTO:+0000
TZNAME:GMT
DTSTART:20231029T010000
END:STANDARD
BEGIN:DAYLIGHT
TZOFFSETFROM:+0000
TZOFFSETTO:+0100
TZNAME:BST
DTSTART:20240331T010000
END:DAYLIGHT
BEGIN:STANDARD
TZOFFSETFROM:+0100
TZOFFSETTO:+0000
TZNAME:GMT
DTSTART:20241027T010000
END:STANDARD
BEGIN:DAYLIGHT
TZOFFSETFROM:+0000
TZOFFSETTO:+0100
TZNAME:BST
DTSTART:20250330T010000
END:DAYLIGHT
BEGIN:STANDARD
TZOFFSETFROM:+0100
TZOFFSETTO:+0000
TZNAME:GMT
DTSTART:20251026T010000
END:STANDARD
END:VTIMEZONE
BEGIN:VEVENT
DTSTART;VALUE=DATE:20241115
DTEND;VALUE=DATE:20241116
DTSTAMP:20260423T114452
CREATED:20240718T094412Z
LAST-MODIFIED:20240718T094412Z
UID:4526-1731628800-1731715199@ysgolbrogwaun.com
SUMMARY:Children In Need
DESCRIPTION:
URL:https://ysgolbrogwaun.com/cy/calendar/children-in-need/
CATEGORIES:Full School
END:VEVENT
BEGIN:VEVENT
DTSTART;VALUE=DATE:20241114
DTEND;VALUE=DATE:20241115
DTSTAMP:20260423T114452
CREATED:20240718T094350Z
LAST-MODIFIED:20240718T094350Z
UID:4524-1731542400-1731628799@ysgolbrogwaun.com
SUMMARY:Urdd Netball
DESCRIPTION:
URL:https://ysgolbrogwaun.com/cy/calendar/urdd-netball/
CATEGORIES:Full School
END:VEVENT
BEGIN:VEVENT
DTSTART;VALUE=DATE:20241111
DTEND;VALUE=DATE:20241112
DTSTAMP:20260423T114452
CREATED:20240718T094027Z
LAST-MODIFIED:20240718T094027Z
UID:4516-1731283200-1731369599@ysgolbrogwaun.com
SUMMARY:Autumn 2 Week B
DESCRIPTION:
URL:https://ysgolbrogwaun.com/cy/calendar/autumn-2-week-b/
CATEGORIES:Full School,School Timetable
END:VEVENT
BEGIN:VEVENT
DTSTART;TZID=Europe/London:20241106T153000
DTEND;TZID=Europe/London:20241106T183000
DTSTAMP:20260423T114452
CREATED:20240718T093531Z
LAST-MODIFIED:20241023T104016Z
UID:4506-1730907000-1730917800@ysgolbrogwaun.com
SUMMARY:Y7 Progress Evening
DESCRIPTION:
URL:https://ysgolbrogwaun.com/cy/calendar/y7-progress-evening/
CATEGORIES:Blwyddyn/Year 07,Full School
END:VEVENT
BEGIN:VEVENT
DTSTART;VALUE=DATE:20241104
DTEND;VALUE=DATE:20241105
DTSTAMP:20260423T114452
CREATED:20240718T093332Z
LAST-MODIFIED:20240718T093332Z
UID:4502-1730678400-1730764799@ysgolbrogwaun.com
SUMMARY:Autumn 2 Week A
DESCRIPTION:
URL:https://ysgolbrogwaun.com/cy/calendar/autumn-2-week-a/
CATEGORIES:Full School,School Timetable
END:VEVENT
BEGIN:VEVENT
DTSTART;VALUE=DATE:20241028
DTEND;VALUE=DATE:20241104
DTSTAMP:20260423T114452
CREATED:20240718T093156Z
LAST-MODIFIED:20240718T093156Z
UID:4500-1730073600-1730678399@ysgolbrogwaun.com
SUMMARY:October Half Term
DESCRIPTION:
URL:https://ysgolbrogwaun.com/cy/calendar/october-half-term/
CATEGORIES:Full School
END:VEVENT
BEGIN:VEVENT
DTSTART;TZID=Europe/London:20241024T180000
DTEND;TZID=Europe/London:20241024T200000
DTSTAMP:20260423T114452
CREATED:20240718T093041Z
LAST-MODIFIED:20240718T093041Z
UID:4496-1729792800-1729800000@ysgolbrogwaun.com
SUMMARY:Halloween Bingo
DESCRIPTION:
URL:https://ysgolbrogwaun.com/cy/calendar/halloween-bingo/
CATEGORIES:Full School
END:VEVENT
BEGIN:VEVENT
DTSTART;TZID=Europe/London:20241023T160000
DTEND;TZID=Europe/London:20241023T190000
DTSTAMP:20260423T114452
CREATED:20240718T092915Z
LAST-MODIFIED:20240718T092915Z
UID:4494-1729699200-1729710000@ysgolbrogwaun.com
SUMMARY:Open Evening
DESCRIPTION:
URL:https://ysgolbrogwaun.com/cy/calendar/open-evening/
CATEGORIES:Full School
END:VEVENT
BEGIN:VEVENT
DTSTART;VALUE=DATE:20241021
DTEND;VALUE=DATE:20241022
DTSTAMP:20260423T114452
CREATED:20240718T092641Z
LAST-MODIFIED:20240718T092641Z
UID:4486-1729468800-1729555199@ysgolbrogwaun.com
SUMMARY:Autumn 1 Week B
DESCRIPTION:
URL:https://ysgolbrogwaun.com/cy/calendar/autumn-1-week-b-4/
CATEGORIES:Full School,School Timetable
END:VEVENT
BEGIN:VEVENT
DTSTART;VALUE=DATE:20241015
DTEND;VALUE=DATE:20241016
DTSTAMP:20260423T114452
CREATED:20240718T081115Z
LAST-MODIFIED:20240718T081126Z
UID:4480-1728950400-1729036799@ysgolbrogwaun.com
SUMMARY:Shwmae Day
DESCRIPTION:
URL:https://ysgolbrogwaun.com/cy/calendar/shwmae-day/
CATEGORIES:Blwyddyn/Year 07,Blwyddyn/Year 08,Blwyddyn/Year 09,Blwyddyn/Year 10,Blwyddyn/Year 11,Full School
END:VEVENT
BEGIN:VEVENT
DTSTART;VALUE=DATE:20241014
DTEND;VALUE=DATE:20241015
DTSTAMP:20260423T114452
CREATED:20240718T080850Z
LAST-MODIFIED:20240718T080850Z
UID:4476-1728864000-1728950399@ysgolbrogwaun.com
SUMMARY:Autumn 1 Week A
DESCRIPTION:
URL:https://ysgolbrogwaun.com/cy/calendar/autumn-1-week-a-4/
CATEGORIES:Full School,School Timetable
END:VEVENT
BEGIN:VEVENT
DTSTART;VALUE=DATE:20241007
DTEND;VALUE=DATE:20241008
DTSTAMP:20260423T114452
CREATED:20240718T080535Z
LAST-MODIFIED:20240718T080535Z
UID:4474-1728259200-1728345599@ysgolbrogwaun.com
SUMMARY:Autumn 1 Week B
DESCRIPTION:
URL:https://ysgolbrogwaun.com/cy/calendar/autumn-1-week-b-3/
CATEGORIES:Full School,School Timetable
END:VEVENT
BEGIN:VEVENT
DTSTART;VALUE=DATE:20241003
DTEND;VALUE=DATE:20241004
DTSTAMP:20260423T114452
CREATED:20240718T080342Z
LAST-MODIFIED:20240718T080342Z
UID:4470-1727913600-1727999999@ysgolbrogwaun.com
SUMMARY:National Poetry Day 2024
DESCRIPTION:
URL:https://ysgolbrogwaun.com/cy/calendar/national-poetry-day-2024/
CATEGORIES:Full School
END:VEVENT
BEGIN:VEVENT
DTSTART;VALUE=DATE:20241002
DTEND;VALUE=DATE:20241003
DTSTAMP:20260423T114452
CREATED:20240718T080431Z
LAST-MODIFIED:20240718T080431Z
UID:4472-1727827200-1727913599@ysgolbrogwaun.com
SUMMARY:Transition Day
DESCRIPTION:
URL:https://ysgolbrogwaun.com/cy/calendar/transition-day/
CATEGORIES:Full School
END:VEVENT
BEGIN:VEVENT
DTSTART;VALUE=DATE:20240930
DTEND;VALUE=DATE:20241001
DTSTAMP:20260423T114452
CREATED:20240718T080244Z
LAST-MODIFIED:20240718T080613Z
UID:4468-1727654400-1727740799@ysgolbrogwaun.com
SUMMARY:Autumn 1 Week A
DESCRIPTION:
URL:https://ysgolbrogwaun.com/cy/calendar/autumn-1-week-a-3/
CATEGORIES:Full School,School Timetable
END:VEVENT
BEGIN:VEVENT
DTSTART;TZID=Europe/London:20240927T113000
DTEND;TZID=Europe/London:20240927T120000
DTSTAMP:20260423T114452
CREATED:20240718T080213Z
LAST-MODIFIED:20240905T125121Z
UID:4466-1727436600-1727438400@ysgolbrogwaun.com
SUMMARY:Macmillan Cake Sale/Coffee Morning
DESCRIPTION:
URL:https://ysgolbrogwaun.com/cy/calendar/macmillan-cake-sale-coffee-morning/
CATEGORIES:Full School
END:VEVENT
BEGIN:VEVENT
DTSTART;VALUE=DATE:20240923
DTEND;VALUE=DATE:20240924
DTSTAMP:20260423T114452
CREATED:20240718T080042Z
LAST-MODIFIED:20240718T080042Z
UID:4464-1727049600-1727135999@ysgolbrogwaun.com
SUMMARY:Autumn 1 Week B
DESCRIPTION:
URL:https://ysgolbrogwaun.com/cy/calendar/autumn-1-week-b-2/
CATEGORIES:Full School,School Timetable
END:VEVENT
BEGIN:VEVENT
DTSTART;VALUE=DATE:20240916
DTEND;VALUE=DATE:20240917
DTSTAMP:20260423T114452
CREATED:20240718T080015Z
LAST-MODIFIED:20240718T080015Z
UID:4462-1726444800-1726531199@ysgolbrogwaun.com
SUMMARY:Autumn 1 Week A
DESCRIPTION:
URL:https://ysgolbrogwaun.com/cy/calendar/autumn-1-week-a-2/
CATEGORIES:Full School,School Timetable
END:VEVENT
BEGIN:VEVENT
DTSTART;VALUE=DATE:20240909
DTEND;VALUE=DATE:20240910
DTSTAMP:20260423T114452
CREATED:20240718T075843Z
LAST-MODIFIED:20240718T075843Z
UID:4460-1725840000-1725926399@ysgolbrogwaun.com
SUMMARY:Autumn 1 Week B
DESCRIPTION:
URL:https://ysgolbrogwaun.com/cy/calendar/autumn-1-week-b/
CATEGORIES:Full School,School Timetable
END:VEVENT
BEGIN:VEVENT
DTSTART;VALUE=DATE:20240904
DTEND;VALUE=DATE:20240905
DTSTAMP:20260423T114452
CREATED:20240702T094517Z
LAST-MODIFIED:20240702T094517Z
UID:4219-1725408000-1725494399@ysgolbrogwaun.com
SUMMARY:All Pupils Return to School
DESCRIPTION:
URL:https://ysgolbrogwaun.com/cy/calendar/all-pupils-return-to-school/
CATEGORIES:Blwyddyn/Year 08,Blwyddyn/Year 09,Blwyddyn/Year 10,Blwyddyn/Year 11,Full School
END:VEVENT
BEGIN:VEVENT
DTSTART;VALUE=DATE:20240903
DTEND;VALUE=DATE:20240904
DTSTAMP:20260423T114452
CREATED:20240702T094425Z
LAST-MODIFIED:20240702T094425Z
UID:4217-1725321600-1725407999@ysgolbrogwaun.com
SUMMARY:Year 7 Return to School
DESCRIPTION:
URL:https://ysgolbrogwaun.com/cy/calendar/year-7-return-to-school/
CATEGORIES:Blwyddyn/Year 07,Full School
END:VEVENT
BEGIN:VEVENT
DTSTART;VALUE=DATE:20240902
DTEND;VALUE=DATE:20240903
DTSTAMP:20260423T114452
CREATED:20240718T075811Z
LAST-MODIFIED:20240718T075811Z
UID:4458-1725235200-1725321599@ysgolbrogwaun.com
SUMMARY:Autumn 1 Week A
DESCRIPTION:
URL:https://ysgolbrogwaun.com/cy/calendar/autumn-1-week-a/
CATEGORIES:Full School,School Timetable
END:VEVENT
BEGIN:VEVENT
DTSTART;VALUE=DATE:20240902
DTEND;VALUE=DATE:20240903
DTSTAMP:20260423T114452
CREATED:20240702T093913Z
LAST-MODIFIED:20240702T093913Z
UID:4215-1725235200-1725321599@ysgolbrogwaun.com
SUMMARY:Inset Day
DESCRIPTION:
URL:https://ysgolbrogwaun.com/cy/calendar/inset-day-4/
CATEGORIES:Blwyddyn/Year 07,Blwyddyn/Year 08,Blwyddyn/Year 09,Blwyddyn/Year 10,Blwyddyn/Year 11,Full School
END:VEVENT
BEGIN:VEVENT
DTSTART;TZID=Europe/London:20240719T080000
DTEND;TZID=Europe/London:20240904T170000
DTSTAMP:20260423T114452
CREATED:20240304T131149Z
LAST-MODIFIED:20240603T083842Z
UID:1651-1721376000-1725469200@ysgolbrogwaun.com
SUMMARY:Summer Break
DESCRIPTION:
URL:https://ysgolbrogwaun.com/cy/calendar/summer-break/
CATEGORIES:Blwyddyn/Year 07,Blwyddyn/Year 08,Blwyddyn/Year 09,Blwyddyn/Year 10,Blwyddyn/Year 11,Full School
END:VEVENT
BEGIN:VEVENT
DTSTART;VALUE=DATE:20240719
DTEND;VALUE=DATE:20240720
DTSTAMP:20260423T114452
CREATED:20240321T093827Z
LAST-MODIFIED:20240321T093827Z
UID:1804-1721347200-1721433599@ysgolbrogwaun.com
SUMMARY:Inset Day
DESCRIPTION:
URL:https://ysgolbrogwaun.com/cy/calendar/inset-day-3/
CATEGORIES:Blwyddyn/Year 07,Blwyddyn/Year 08,Blwyddyn/Year 09,Blwyddyn/Year 10,Blwyddyn/Year 11,Full School
END:VEVENT
BEGIN:VEVENT
DTSTART;TZID=Europe/London:20240718T140000
DTEND;TZID=Europe/London:20240718T160000
DTSTAMP:20260423T114452
CREATED:20240702T094736Z
LAST-MODIFIED:20240702T094736Z
UID:4225-1721311200-1721318400@ysgolbrogwaun.com
SUMMARY:Uniform Pop Up Shop
DESCRIPTION:
URL:https://ysgolbrogwaun.com/cy/calendar/uniform-pop-up-shop/
CATEGORIES:Full School
END:VEVENT
BEGIN:VEVENT
DTSTART;VALUE=DATE:20240718
DTEND;VALUE=DATE:20240719
DTSTAMP:20260423T114452
CREATED:20240619T113609Z
LAST-MODIFIED:20240619T113609Z
UID:3582-1721260800-1721347199@ysgolbrogwaun.com
SUMMARY:End of Year Trips
DESCRIPTION:
URL:https://ysgolbrogwaun.com/cy/calendar/end-of-year-trips/
CATEGORIES:Blwyddyn/Year 07,Blwyddyn/Year 08,Blwyddyn/Year 09,Blwyddyn/Year 10,Blwyddyn/Year 11,Full School
END:VEVENT
BEGIN:VEVENT
DTSTART;TZID=Europe/London:20240717T090000
DTEND;TZID=Europe/London:20240717T133000
DTSTAMP:20260423T114452
CREATED:20240603T083018Z
LAST-MODIFIED:20240619T113510Z
UID:2970-1721206800-1721223000@ysgolbrogwaun.com
SUMMARY:End of Term Award Assemblies
DESCRIPTION:
URL:https://ysgolbrogwaun.com/cy/calendar/end-of-term-award-assemblies/
CATEGORIES:Blwyddyn/Year 07,Blwyddyn/Year 08,Blwyddyn/Year 09,Blwyddyn/Year 10,Blwyddyn/Year 11,Full School
END:VEVENT
BEGIN:VEVENT
DTSTART;VALUE=DATE:20240715
DTEND;VALUE=DATE:20240716
DTSTAMP:20260423T114452
CREATED:20240621T132719Z
LAST-MODIFIED:20240621T134826Z
UID:3683-1721001600-1721087999@ysgolbrogwaun.com
SUMMARY:Summer Term Week A
DESCRIPTION:
URL:https://ysgolbrogwaun.com/cy/calendar/summer-term-week-a-2/
CATEGORIES:Full School,School Timetable
END:VEVENT
BEGIN:VEVENT
DTSTART;VALUE=DATE:20240711
DTEND;VALUE=DATE:20240712
DTSTAMP:20260423T114452
CREATED:20240603T082655Z
LAST-MODIFIED:20240603T083639Z
UID:2966-1720656000-1720742399@ysgolbrogwaun.com
SUMMARY:Sports Day
DESCRIPTION:
URL:https://ysgolbrogwaun.com/cy/calendar/sports-day/
CATEGORIES:Blwyddyn/Year 07,Blwyddyn/Year 08,Blwyddyn/Year 09,Blwyddyn/Year 10,Blwyddyn/Year 11,Full School
END:VEVENT
END:VCALENDAR