BEGIN:VCALENDAR
VERSION:2.0
PRODID:-//Ysgol Bro Gwaun - ECPv6.15.20//NONSGML v1.0//EN
CALSCALE:GREGORIAN
METHOD:PUBLISH
X-ORIGINAL-URL:https://ysgolbrogwaun.com/cy
X-WR-CALDESC:Events for Ysgol Bro Gwaun
REFRESH-INTERVAL;VALUE=DURATION:PT1H
X-Robots-Tag:noindex
X-PUBLISHED-TTL:PT1H
BEGIN:VTIMEZONE
TZID:Europe/London
BEGIN:DAYLIGHT
TZOFFSETFROM:+0000
TZOFFSETTO:+0100
TZNAME:BST
DTSTART:20240331T010000
END:DAYLIGHT
BEGIN:STANDARD
TZOFFSETFROM:+0100
TZOFFSETTO:+0000
TZNAME:GMT
DTSTART:20241027T010000
END:STANDARD
BEGIN:DAYLIGHT
TZOFFSETFROM:+0000
TZOFFSETTO:+0100
TZNAME:BST
DTSTART:20250330T010000
END:DAYLIGHT
BEGIN:STANDARD
TZOFFSETFROM:+0100
TZOFFSETTO:+0000
TZNAME:GMT
DTSTART:20251026T010000
END:STANDARD
BEGIN:DAYLIGHT
TZOFFSETFROM:+0000
TZOFFSETTO:+0100
TZNAME:BST
DTSTART:20260329T010000
END:DAYLIGHT
BEGIN:STANDARD
TZOFFSETFROM:+0100
TZOFFSETTO:+0000
TZNAME:GMT
DTSTART:20261025T010000
END:STANDARD
END:VTIMEZONE
BEGIN:VEVENT
DTSTART;VALUE=DATE:20250625
DTEND;VALUE=DATE:20250626
DTSTAMP:20260423T124426
CREATED:20250115T133855Z
LAST-MODIFIED:20250219T123451Z
UID:5347-1750809600-1750895999@ysgolbrogwaun.com
SUMMARY:School Eisteddfod
DESCRIPTION:
URL:https://ysgolbrogwaun.com/cy/calendar/school-eisteddfod-2/
CATEGORIES:Full School
END:VEVENT
BEGIN:VEVENT
DTSTART;TZID=Europe/London:20250625T083000
DTEND;TZID=Europe/London:20250625T090000
DTSTAMP:20260423T124426
CREATED:20250128T102055Z
LAST-MODIFIED:20250221T095219Z
UID:5424-1750840200-1750842000@ysgolbrogwaun.com
SUMMARY:Assembly + Chairing Ceremony
DESCRIPTION:
URL:https://ysgolbrogwaun.com/cy/calendar/assembly-chairing-ceremony/
CATEGORIES:Full School
END:VEVENT
END:VCALENDAR