BEGIN:VCALENDAR
VERSION:2.0
PRODID:-//Ysgol Bro Gwaun - ECPv6.15.20//NONSGML v1.0//EN
CALSCALE:GREGORIAN
METHOD:PUBLISH
X-ORIGINAL-URL:https://ysgolbrogwaun.com/cy
X-WR-CALDESC:Events for Ysgol Bro Gwaun
REFRESH-INTERVAL;VALUE=DURATION:PT1H
X-Robots-Tag:noindex
X-PUBLISHED-TTL:PT1H
BEGIN:VTIMEZONE
TZID:Europe/London
BEGIN:DAYLIGHT
TZOFFSETFROM:+0000
TZOFFSETTO:+0100
TZNAME:BST
DTSTART:20240331T010000
END:DAYLIGHT
BEGIN:STANDARD
TZOFFSETFROM:+0100
TZOFFSETTO:+0000
TZNAME:GMT
DTSTART:20241027T010000
END:STANDARD
BEGIN:DAYLIGHT
TZOFFSETFROM:+0000
TZOFFSETTO:+0100
TZNAME:BST
DTSTART:20250330T010000
END:DAYLIGHT
BEGIN:STANDARD
TZOFFSETFROM:+0100
TZOFFSETTO:+0000
TZNAME:GMT
DTSTART:20251026T010000
END:STANDARD
BEGIN:DAYLIGHT
TZOFFSETFROM:+0000
TZOFFSETTO:+0100
TZNAME:BST
DTSTART:20260329T010000
END:DAYLIGHT
BEGIN:STANDARD
TZOFFSETFROM:+0100
TZOFFSETTO:+0000
TZNAME:GMT
DTSTART:20261025T010000
END:STANDARD
END:VTIMEZONE
BEGIN:VEVENT
DTSTART;VALUE=DATE:20250505
DTEND;VALUE=DATE:20250506
DTSTAMP:20260423T094322
CREATED:20250303T102400Z
LAST-MODIFIED:20250303T102551Z
UID:5585-1746403200-1746489599@ysgolbrogwaun.com
SUMMARY:Bank Holiday
DESCRIPTION:
URL:https://ysgolbrogwaun.com/cy/calendar/bank-holiday/
CATEGORIES:Full School,School Timetable
END:VEVENT
BEGIN:VEVENT
DTSTART;TZID=Europe/London:20250507T120000
DTEND;TZID=Europe/London:20250507T150000
DTSTAMP:20260423T094322
CREATED:20250303T103206Z
LAST-MODIFIED:20250303T103206Z
UID:5589-1746619200-1746630000@ysgolbrogwaun.com
SUMMARY:Enrichment Day
DESCRIPTION:
URL:https://ysgolbrogwaun.com/cy/calendar/enrichment-day-5/
CATEGORIES:Full School,School Timetable
END:VEVENT
BEGIN:VEVENT
DTSTART;TZID=Europe/London:20250521T123000
DTEND;TZID=Europe/London:20250521T150000
DTSTAMP:20260423T094322
CREATED:20250519T082236Z
LAST-MODIFIED:20250519T082236Z
UID:5759-1747830600-1747839600@ysgolbrogwaun.com
SUMMARY:Enrichment Day
DESCRIPTION:
URL:https://ysgolbrogwaun.com/cy/calendar/enrichment-day-6/
CATEGORIES:Full School,School Timetable
END:VEVENT
BEGIN:VEVENT
DTSTART;VALUE=DATE:20250522
DTEND;VALUE=DATE:20250523
DTSTAMP:20260423T094322
CREATED:20250303T112729Z
LAST-MODIFIED:20250303T112729Z
UID:5595-1747872000-1747958399@ysgolbrogwaun.com
SUMMARY:County Sports
DESCRIPTION:
URL:https://ysgolbrogwaun.com/cy/calendar/county-sports/
CATEGORIES:Full School,School Timetable
END:VEVENT
BEGIN:VEVENT
DTSTART;VALUE=DATE:20250524
DTEND;VALUE=DATE:20250531
DTSTAMP:20260423T094322
CREATED:20250303T103654Z
LAST-MODIFIED:20250303T103756Z
UID:5593-1748044800-1748649599@ysgolbrogwaun.com
SUMMARY:Half Term
DESCRIPTION:
URL:https://ysgolbrogwaun.com/cy/calendar/half-term-3/
CATEGORIES:Full School,School Timetable
END:VEVENT
END:VCALENDAR