BEGIN:VCALENDAR
VERSION:2.0
PRODID:-//Ysgol Bro Gwaun - ECPv6.15.20//NONSGML v1.0//EN
CALSCALE:GREGORIAN
METHOD:PUBLISH
X-WR-CALNAME:Ysgol Bro Gwaun
X-ORIGINAL-URL:https://ysgolbrogwaun.com/cy
X-WR-CALDESC:Events for Ysgol Bro Gwaun
REFRESH-INTERVAL;VALUE=DURATION:PT1H
X-Robots-Tag:noindex
X-PUBLISHED-TTL:PT1H
BEGIN:VTIMEZONE
TZID:Europe/London
BEGIN:DAYLIGHT
TZOFFSETFROM:+0000
TZOFFSETTO:+0100
TZNAME:BST
DTSTART:20240331T010000
END:DAYLIGHT
BEGIN:STANDARD
TZOFFSETFROM:+0100
TZOFFSETTO:+0000
TZNAME:GMT
DTSTART:20241027T010000
END:STANDARD
BEGIN:DAYLIGHT
TZOFFSETFROM:+0000
TZOFFSETTO:+0100
TZNAME:BST
DTSTART:20250330T010000
END:DAYLIGHT
BEGIN:STANDARD
TZOFFSETFROM:+0100
TZOFFSETTO:+0000
TZNAME:GMT
DTSTART:20251026T010000
END:STANDARD
BEGIN:DAYLIGHT
TZOFFSETFROM:+0000
TZOFFSETTO:+0100
TZNAME:BST
DTSTART:20260329T010000
END:DAYLIGHT
BEGIN:STANDARD
TZOFFSETFROM:+0100
TZOFFSETTO:+0000
TZNAME:GMT
DTSTART:20261025T010000
END:STANDARD
END:VTIMEZONE
BEGIN:VEVENT
DTSTART;VALUE=DATE:20250222
DTEND;VALUE=DATE:20250303
DTSTAMP:20260423T200647
CREATED:20250110T110220Z
LAST-MODIFIED:20250110T110220Z
UID:5330-1740182400-1740959999@ysgolbrogwaun.com
SUMMARY:Half Term
DESCRIPTION:
URL:https://ysgolbrogwaun.com/cy/calendar/half-term-2/
CATEGORIES:Blwyddyn/Year 07,Blwyddyn/Year 08,Blwyddyn/Year 09,Blwyddyn/Year 10,Blwyddyn/Year 11,Full School
END:VEVENT
BEGIN:VEVENT
DTSTART;TZID=Europe/London:20250311T170000
DTEND;TZID=Europe/London:20250311T180000
DTSTAMP:20260423T200647
CREATED:20250115T135801Z
LAST-MODIFIED:20250115T135801Z
UID:5353-1741712400-1741716000@ysgolbrogwaun.com
SUMMARY:Helping from Home Evening
DESCRIPTION:
URL:https://ysgolbrogwaun.com/cy/calendar/helping-from-home-evening/
CATEGORIES:Full School
END:VEVENT
BEGIN:VEVENT
DTSTART;TZID=Europe/London:20250312T123000
DTEND;TZID=Europe/London:20250312T150000
DTSTAMP:20260423T200647
CREATED:20250303T100545Z
LAST-MODIFIED:20250303T100545Z
UID:5575-1741782600-1741791600@ysgolbrogwaun.com
SUMMARY:Enrichment Day
DESCRIPTION:
URL:https://ysgolbrogwaun.com/cy/calendar/enrichment-day/
CATEGORIES:Full School
END:VEVENT
BEGIN:VEVENT
DTSTART;VALUE=DATE:20250321
DTEND;VALUE=DATE:20250322
DTSTAMP:20260423T200647
CREATED:20240702T094702Z
LAST-MODIFIED:20240702T094702Z
UID:4223-1742515200-1742601599@ysgolbrogwaun.com
SUMMARY:Inset Day
DESCRIPTION:
URL:https://ysgolbrogwaun.com/cy/calendar/inset-day-6/
CATEGORIES:Blwyddyn/Year 07,Blwyddyn/Year 08,Blwyddyn/Year 09,Blwyddyn/Year 10,Blwyddyn/Year 11,Full School
END:VEVENT
BEGIN:VEVENT
DTSTART;VALUE=DATE:20250326
DTEND;VALUE=DATE:20250327
DTSTAMP:20260423T200647
CREATED:20250128T102704Z
LAST-MODIFIED:20250128T102704Z
UID:5438-1742947200-1743033599@ysgolbrogwaun.com
SUMMARY:Y10 Progress Evening
DESCRIPTION:
URL:https://ysgolbrogwaun.com/cy/calendar/y10-progress-evening/
CATEGORIES:Blwyddyn/Year 10,Full School
END:VEVENT
BEGIN:VEVENT
DTSTART;TZID=Europe/London:20250326T120000
DTEND;TZID=Europe/London:20250326T150000
DTSTAMP:20260423T200647
CREATED:20250303T101514Z
LAST-MODIFIED:20250303T101514Z
UID:5577-1742990400-1743001200@ysgolbrogwaun.com
SUMMARY:Enrichment Day
DESCRIPTION: 
URL:https://ysgolbrogwaun.com/cy/calendar/enrichment-day-2/
CATEGORIES:Full School
END:VEVENT
END:VCALENDAR