BEGIN:VCALENDAR
VERSION:2.0
PRODID:-//Ysgol Bro Gwaun - ECPv6.15.20//NONSGML v1.0//EN
CALSCALE:GREGORIAN
METHOD:PUBLISH
X-ORIGINAL-URL:https://ysgolbrogwaun.com
X-WR-CALDESC:Events for Ysgol Bro Gwaun
REFRESH-INTERVAL;VALUE=DURATION:PT1H
X-Robots-Tag:noindex
X-PUBLISHED-TTL:PT1H
BEGIN:VTIMEZONE
TZID:Europe/London
BEGIN:DAYLIGHT
TZOFFSETFROM:+0000
TZOFFSETTO:+0100
TZNAME:BST
DTSTART:20250330T010000
END:DAYLIGHT
BEGIN:STANDARD
TZOFFSETFROM:+0100
TZOFFSETTO:+0000
TZNAME:GMT
DTSTART:20251026T010000
END:STANDARD
BEGIN:DAYLIGHT
TZOFFSETFROM:+0000
TZOFFSETTO:+0100
TZNAME:BST
DTSTART:20260329T010000
END:DAYLIGHT
BEGIN:STANDARD
TZOFFSETFROM:+0100
TZOFFSETTO:+0000
TZNAME:GMT
DTSTART:20261025T010000
END:STANDARD
BEGIN:DAYLIGHT
TZOFFSETFROM:+0000
TZOFFSETTO:+0100
TZNAME:BST
DTSTART:20270328T010000
END:DAYLIGHT
BEGIN:STANDARD
TZOFFSETFROM:+0100
TZOFFSETTO:+0000
TZNAME:GMT
DTSTART:20271031T010000
END:STANDARD
END:VTIMEZONE
BEGIN:VEVENT
DTSTART;VALUE=DATE:20260508
DTEND;VALUE=DATE:20260509
DTSTAMP:20260421T150147
CREATED:20260420T091911Z
LAST-MODIFIED:20260420T091911Z
UID:6645-1778198400-1778284799@ysgolbrogwaun.com
SUMMARY:Boys URDD Football
DESCRIPTION:
URL:https://ysgolbrogwaun.com/calendar/boys-urdd-football/
CATEGORIES:Blwyddyn/Year 08,Blwyddyn/Year 10
END:VEVENT
BEGIN:VEVENT
DTSTART;VALUE=DATE:20260511
DTEND;VALUE=DATE:20260516
DTSTAMP:20260421T150147
CREATED:20260420T091943Z
LAST-MODIFIED:20260420T091943Z
UID:6647-1778457600-1778889599@ysgolbrogwaun.com
SUMMARY:Summer Week A
DESCRIPTION:
URL:https://ysgolbrogwaun.com/calendar/summer-week-a-3/
CATEGORIES:School Timetable
END:VEVENT
BEGIN:VEVENT
DTSTART;VALUE=DATE:20260513
DTEND;VALUE=DATE:20260514
DTSTAMP:20260421T150147
CREATED:20260420T124932Z
LAST-MODIFIED:20260420T124932Z
UID:6658-1778630400-1778716799@ysgolbrogwaun.com
SUMMARY:County Sports
DESCRIPTION:
URL:https://ysgolbrogwaun.com/calendar/county-sports-2/
CATEGORIES:Full School
END:VEVENT
BEGIN:VEVENT
DTSTART;VALUE=DATE:20260518
DTEND;VALUE=DATE:20260523
DTSTAMP:20260421T150147
CREATED:20260420T124533Z
LAST-MODIFIED:20260420T124533Z
UID:6651-1779062400-1779494399@ysgolbrogwaun.com
SUMMARY:Summer Week B
DESCRIPTION:
URL:https://ysgolbrogwaun.com/calendar/summer-week-b-3/
CATEGORIES:School Timetable
END:VEVENT
BEGIN:VEVENT
DTSTART;TZID=Europe/London:20260520T123000
DTEND;TZID=Europe/London:20260520T150000
DTSTAMP:20260421T150147
CREATED:20260420T125037Z
LAST-MODIFIED:20260420T125044Z
UID:6660-1779280200-1779289200@ysgolbrogwaun.com
SUMMARY:Summer Enrichment
DESCRIPTION:
URL:https://ysgolbrogwaun.com/calendar/summer-enrichment-3/
CATEGORIES:Full School,School Timetable
END:VEVENT
BEGIN:VEVENT
DTSTART;VALUE=DATE:20260522
DTEND;VALUE=DATE:20260523
DTSTAMP:20260421T150147
CREATED:20260420T125106Z
LAST-MODIFIED:20260420T125106Z
UID:6662-1779408000-1779494399@ysgolbrogwaun.com
SUMMARY:Year 11 Leaving Day
DESCRIPTION:
URL:https://ysgolbrogwaun.com/calendar/year-11-leaving-day/
CATEGORIES:Blwyddyn/Year 11,Full School,School Timetable
END:VEVENT
BEGIN:VEVENT
DTSTART;VALUE=DATE:20260523
DTEND;VALUE=DATE:20260601
DTSTAMP:20260421T150147
CREATED:20260420T124712Z
LAST-MODIFIED:20260420T124721Z
UID:6656-1779494400-1780271999@ysgolbrogwaun.com
SUMMARY:Half Term
DESCRIPTION:
URL:https://ysgolbrogwaun.com/calendar/half-term/
CATEGORIES:Full School
END:VEVENT
BEGIN:VEVENT
DTSTART;VALUE=DATE:20260601
DTEND;VALUE=DATE:20260606
DTSTAMP:20260421T150147
CREATED:20260420T125957Z
LAST-MODIFIED:20260420T125957Z
UID:6666-1780272000-1780703999@ysgolbrogwaun.com
SUMMARY:Summer Week A
DESCRIPTION:
URL:https://ysgolbrogwaun.com/calendar/summer-week-a-4/
CATEGORIES:School Timetable
END:VEVENT
BEGIN:VEVENT
DTSTART;VALUE=DATE:20260601
DTEND;VALUE=DATE:20260618
DTSTAMP:20260421T150147
CREATED:20260420T125538Z
LAST-MODIFIED:20260420T125538Z
UID:6664-1780272000-1781740799@ysgolbrogwaun.com
SUMMARY:GCSE Exams
DESCRIPTION:
URL:https://ysgolbrogwaun.com/calendar/gcse-exams-2/
CATEGORIES:Blwyddyn/Year 10,Blwyddyn/Year 11,Exams
END:VEVENT
BEGIN:VEVENT
DTSTART;VALUE=DATE:20260608
DTEND;VALUE=DATE:20260613
DTSTAMP:20260421T150147
CREATED:20260420T130032Z
LAST-MODIFIED:20260420T130032Z
UID:6668-1780876800-1781308799@ysgolbrogwaun.com
SUMMARY:Summer Week B
DESCRIPTION:
URL:https://ysgolbrogwaun.com/calendar/summer-week-b-4/
CATEGORIES:School Timetable
END:VEVENT
BEGIN:VEVENT
DTSTART;VALUE=DATE:20260609
DTEND;VALUE=DATE:20260610
DTSTAMP:20260421T150147
CREATED:20260420T130208Z
LAST-MODIFIED:20260420T130208Z
UID:6670-1780963200-1781049599@ysgolbrogwaun.com
SUMMARY:Dyfed Athletics Championship
DESCRIPTION:
URL:https://ysgolbrogwaun.com/calendar/dyfed-athletics-championship-2/
CATEGORIES:Full School
END:VEVENT
BEGIN:VEVENT
DTSTART;VALUE=DATE:20260615
DTEND;VALUE=DATE:20260620
DTSTAMP:20260421T150147
CREATED:20260420T130251Z
LAST-MODIFIED:20260420T130251Z
UID:6673-1781481600-1781913599@ysgolbrogwaun.com
SUMMARY:Summer Week A
DESCRIPTION:
URL:https://ysgolbrogwaun.com/calendar/summer-week-a-5/
CATEGORIES:School Timetable
END:VEVENT
BEGIN:VEVENT
DTSTART;VALUE=DATE:20260619
DTEND;VALUE=DATE:20260620
DTSTAMP:20260421T150147
CREATED:20260420T130700Z
LAST-MODIFIED:20260420T130700Z
UID:6677-1781827200-1781913599@ysgolbrogwaun.com
SUMMARY:INSET DAY
DESCRIPTION:
URL:https://ysgolbrogwaun.com/calendar/inset-day/
CATEGORIES:Full School,School Timetable
END:VEVENT
BEGIN:VEVENT
DTSTART;VALUE=DATE:20260622
DTEND;VALUE=DATE:20260627
DTSTAMP:20260421T150147
CREATED:20260420T130312Z
LAST-MODIFIED:20260420T130312Z
UID:6675-1782086400-1782518399@ysgolbrogwaun.com
SUMMARY:Summer Week B
DESCRIPTION:
URL:https://ysgolbrogwaun.com/calendar/summer-week-b-5/
CATEGORIES:School Timetable
END:VEVENT
BEGIN:VEVENT
DTSTART;VALUE=DATE:20260622
DTEND;VALUE=DATE:20260627
DTSTAMP:20260421T150147
CREATED:20260420T130748Z
LAST-MODIFIED:20260420T130748Z
UID:6679-1782086400-1782518399@ysgolbrogwaun.com
SUMMARY:House Competition Week
DESCRIPTION:
URL:https://ysgolbrogwaun.com/calendar/house-competition-week-2/
CATEGORIES:School Timetable
END:VEVENT
END:VCALENDAR