BEGIN:VCALENDAR
VERSION:2.0
PRODID:-//Ysgol Bro Gwaun - ECPv6.15.20//NONSGML v1.0//EN
CALSCALE:GREGORIAN
METHOD:PUBLISH
X-WR-CALNAME:Ysgol Bro Gwaun
X-ORIGINAL-URL:https://ysgolbrogwaun.com
X-WR-CALDESC:Events for Ysgol Bro Gwaun
REFRESH-INTERVAL;VALUE=DURATION:PT1H
X-Robots-Tag:noindex
X-PUBLISHED-TTL:PT1H
BEGIN:VTIMEZONE
TZID:Europe/London
BEGIN:DAYLIGHT
TZOFFSETFROM:+0000
TZOFFSETTO:+0100
TZNAME:BST
DTSTART:20240331T010000
END:DAYLIGHT
BEGIN:STANDARD
TZOFFSETFROM:+0100
TZOFFSETTO:+0000
TZNAME:GMT
DTSTART:20241027T010000
END:STANDARD
BEGIN:DAYLIGHT
TZOFFSETFROM:+0000
TZOFFSETTO:+0100
TZNAME:BST
DTSTART:20250330T010000
END:DAYLIGHT
BEGIN:STANDARD
TZOFFSETFROM:+0100
TZOFFSETTO:+0000
TZNAME:GMT
DTSTART:20251026T010000
END:STANDARD
BEGIN:DAYLIGHT
TZOFFSETFROM:+0000
TZOFFSETTO:+0100
TZNAME:BST
DTSTART:20260329T010000
END:DAYLIGHT
BEGIN:STANDARD
TZOFFSETFROM:+0100
TZOFFSETTO:+0000
TZNAME:GMT
DTSTART:20261025T010000
END:STANDARD
END:VTIMEZONE
BEGIN:VEVENT
DTSTART;VALUE=DATE:20250106
DTEND;VALUE=DATE:20250107
DTSTAMP:20260423T152453
CREATED:20240702T094611Z
LAST-MODIFIED:20240702T094611Z
UID:4221-1736121600-1736207999@ysgolbrogwaun.com
SUMMARY:Inset Day
DESCRIPTION:
URL:https://ysgolbrogwaun.com/calendar/inset-day-5/
CATEGORIES:Blwyddyn/Year 07,Blwyddyn/Year 08,Blwyddyn/Year 09,Blwyddyn/Year 10,Blwyddyn/Year 11,Full School
END:VEVENT
BEGIN:VEVENT
DTSTART;VALUE=DATE:20250107
DTEND;VALUE=DATE:20250108
DTSTAMP:20260423T152453
CREATED:20241220T133404Z
LAST-MODIFIED:20241220T133404Z
UID:5309-1736208000-1736294399@ysgolbrogwaun.com
SUMMARY:School Opens after Holidays
DESCRIPTION:
URL:https://ysgolbrogwaun.com/calendar/school-opens-after-holidays/
CATEGORIES:Blwyddyn/Year 07,Blwyddyn/Year 08,Blwyddyn/Year 09,Blwyddyn/Year 10,Blwyddyn/Year 11,Full School
END:VEVENT
BEGIN:VEVENT
DTSTART;VALUE=DATE:20250109
DTEND;VALUE=DATE:20250110
DTSTAMP:20260423T152453
CREATED:20241021T115247Z
LAST-MODIFIED:20241021T115247Z
UID:4912-1736380800-1736467199@ysgolbrogwaun.com
SUMMARY:Pembs Schools Cross Country
DESCRIPTION:
URL:https://ysgolbrogwaun.com/calendar/pembs-schools-cross-country/
CATEGORIES:Blwyddyn/Year 07,Blwyddyn/Year 08,Blwyddyn/Year 09,Blwyddyn/Year 10,Blwyddyn/Year 11,Full School
END:VEVENT
BEGIN:VEVENT
DTSTART;VALUE=DATE:20250113
DTEND;VALUE=DATE:20250116
DTSTAMP:20260423T152453
CREATED:20241021T115338Z
LAST-MODIFIED:20241021T115338Z
UID:4914-1736726400-1736985599@ysgolbrogwaun.com
SUMMARY:Y9 Exams
DESCRIPTION:
URL:https://ysgolbrogwaun.com/calendar/y9-exams/
CATEGORIES:Blwyddyn/Year 09,Exams
END:VEVENT
BEGIN:VEVENT
DTSTART;VALUE=DATE:20250116
DTEND;VALUE=DATE:20250117
DTSTAMP:20260423T152453
CREATED:20241021T115414Z
LAST-MODIFIED:20241021T115414Z
UID:4916-1736985600-1737071999@ysgolbrogwaun.com
SUMMARY:Hockey Y8 Pembrokeshire Cup
DESCRIPTION:
URL:https://ysgolbrogwaun.com/calendar/hockey-y8-pembrokeshire-cup/
CATEGORIES:Blwyddyn/Year 09
END:VEVENT
BEGIN:VEVENT
DTSTART;VALUE=DATE:20250122
DTEND;VALUE=DATE:20250123
DTSTAMP:20260423T152453
CREATED:20241021T115456Z
LAST-MODIFIED:20241021T115456Z
UID:4918-1737504000-1737590399@ysgolbrogwaun.com
SUMMARY:Dyfed Schools Cross Country
DESCRIPTION:
URL:https://ysgolbrogwaun.com/calendar/dyfed-schools-cross-country/
CATEGORIES:Blwyddyn/Year 07,Blwyddyn/Year 08,Blwyddyn/Year 09,Blwyddyn/Year 10,Blwyddyn/Year 11,Full School
END:VEVENT
BEGIN:VEVENT
DTSTART;VALUE=DATE:20250123
DTEND;VALUE=DATE:20250124
DTSTAMP:20260423T152453
CREATED:20241021T115640Z
LAST-MODIFIED:20241021T115640Z
UID:4920-1737590400-1737676799@ysgolbrogwaun.com
SUMMARY:Basketball U15 Pembrokeshire Cup
DESCRIPTION:
URL:https://ysgolbrogwaun.com/calendar/basketball-u15-pembrokeshire-cup/
CATEGORIES:Blwyddyn/Year 07,Blwyddyn/Year 08,Blwyddyn/Year 09
END:VEVENT
BEGIN:VEVENT
DTSTART;VALUE=DATE:20250124
DTEND;VALUE=DATE:20250125
DTSTAMP:20260423T152453
CREATED:20241021T115803Z
LAST-MODIFIED:20241021T115803Z
UID:4922-1737676800-1737763199@ysgolbrogwaun.com
SUMMARY:Dydd Santes Dwywen Rose Sale
DESCRIPTION:
URL:https://ysgolbrogwaun.com/calendar/dydd-santes-dwywen-rose-sale/
CATEGORIES:Blwyddyn/Year 07,Blwyddyn/Year 08,Blwyddyn/Year 09,Blwyddyn/Year 10,Blwyddyn/Year 11,Full School
END:VEVENT
BEGIN:VEVENT
DTSTART;VALUE=DATE:20250128
DTEND;VALUE=DATE:20250129
DTSTAMP:20260423T152453
CREATED:20240715T105234Z
LAST-MODIFIED:20240715T105234Z
UID:4423-1738022400-1738108799@ysgolbrogwaun.com
SUMMARY:Netball Cup Y9
DESCRIPTION:
URL:https://ysgolbrogwaun.com/calendar/netball-cup-y9/
CATEGORIES:Blwyddyn/Year 09
END:VEVENT
BEGIN:VEVENT
DTSTART;VALUE=DATE:20250129
DTEND;VALUE=DATE:20250130
DTSTAMP:20260423T152453
CREATED:20241021T120256Z
LAST-MODIFIED:20241021T120256Z
UID:4928-1738108800-1738195199@ysgolbrogwaun.com
SUMMARY:Intermediate Maths Challenge
DESCRIPTION:
URL:https://ysgolbrogwaun.com/calendar/intermediate-maths-challenge/
CATEGORIES:Blwyddyn/Year 08,Blwyddyn/Year 09,Blwyddyn/Year 10
END:VEVENT
BEGIN:VEVENT
DTSTART;VALUE=DATE:20250130
DTEND;VALUE=DATE:20250131
DTSTAMP:20260423T152453
CREATED:20240715T105311Z
LAST-MODIFIED:20240715T105311Z
UID:4425-1738195200-1738281599@ysgolbrogwaun.com
SUMMARY:Rugby 20/20
DESCRIPTION:
URL:https://ysgolbrogwaun.com/calendar/rugby-20-20/
CATEGORIES:Blwyddyn/Year 09
END:VEVENT
BEGIN:VEVENT
DTSTART;VALUE=DATE:20250130
DTEND;VALUE=DATE:20250131
DTSTAMP:20260423T152453
CREATED:20250128T093744Z
LAST-MODIFIED:20250128T093744Z
UID:5391-1738195200-1738281599@ysgolbrogwaun.com
SUMMARY:Y9 Vaccinations
DESCRIPTION:
URL:https://ysgolbrogwaun.com/calendar/y9-vaccinations/
CATEGORIES:Blwyddyn/Year 09
END:VEVENT
END:VCALENDAR