BEGIN:VCALENDAR
VERSION:2.0
PRODID:-//Ysgol Bro Gwaun - ECPv6.15.20//NONSGML v1.0//EN
CALSCALE:GREGORIAN
METHOD:PUBLISH
X-ORIGINAL-URL:https://ysgolbrogwaun.com
X-WR-CALDESC:Events for Ysgol Bro Gwaun
REFRESH-INTERVAL;VALUE=DURATION:PT1H
X-Robots-Tag:noindex
X-PUBLISHED-TTL:PT1H
BEGIN:VTIMEZONE
TZID:Europe/London
BEGIN:DAYLIGHT
TZOFFSETFROM:+0000
TZOFFSETTO:+0100
TZNAME:BST
DTSTART:20250330T010000
END:DAYLIGHT
BEGIN:STANDARD
TZOFFSETFROM:+0100
TZOFFSETTO:+0000
TZNAME:GMT
DTSTART:20251026T010000
END:STANDARD
BEGIN:DAYLIGHT
TZOFFSETFROM:+0000
TZOFFSETTO:+0100
TZNAME:BST
DTSTART:20260329T010000
END:DAYLIGHT
BEGIN:STANDARD
TZOFFSETFROM:+0100
TZOFFSETTO:+0000
TZNAME:GMT
DTSTART:20261025T010000
END:STANDARD
BEGIN:DAYLIGHT
TZOFFSETFROM:+0000
TZOFFSETTO:+0100
TZNAME:BST
DTSTART:20270328T010000
END:DAYLIGHT
BEGIN:STANDARD
TZOFFSETFROM:+0100
TZOFFSETTO:+0000
TZNAME:GMT
DTSTART:20271031T010000
END:STANDARD
END:VTIMEZONE
BEGIN:VEVENT
DTSTART;VALUE=DATE:20260228
DTEND;VALUE=DATE:20260304
DTSTAMP:20260421T101122
CREATED:20260129T135244Z
LAST-MODIFIED:20260129T135244Z
UID:6522-1772236800-1772582399@ysgolbrogwaun.com
SUMMARY:Maths Paris Trip
DESCRIPTION:
URL:https://ysgolbrogwaun.com/calendar/maths-paris-trip-2/
CATEGORIES:Full School
END:VEVENT
BEGIN:VEVENT
DTSTART;VALUE=DATE:20260304
DTEND;VALUE=DATE:20260305
DTSTAMP:20260421T101122
CREATED:20260303T135115Z
LAST-MODIFIED:20260303T135115Z
UID:6561-1772582400-1772668799@ysgolbrogwaun.com
SUMMARY:Gwisg Coch - Wear Red Day
DESCRIPTION:
URL:https://ysgolbrogwaun.com/calendar/gwisg-coch-wear-red-day/
CATEGORIES:Full School
END:VEVENT
BEGIN:VEVENT
DTSTART;TZID=Europe/London:20260311T123000
DTEND;TZID=Europe/London:20260311T150000
DTSTAMP:20260421T101122
CREATED:20260129T135511Z
LAST-MODIFIED:20260129T135511Z
UID:6529-1773232200-1773241200@ysgolbrogwaun.com
SUMMARY:Enrichment Day
DESCRIPTION:
URL:https://ysgolbrogwaun.com/calendar/enrichment-day-7/
CATEGORIES:Full School,School Timetable
END:VEVENT
BEGIN:VEVENT
DTSTART;TZID=Europe/London:20260318T160000
DTEND;TZID=Europe/London:20260318T180000
DTSTAMP:20260421T101122
CREATED:20260129T135735Z
LAST-MODIFIED:20260129T135735Z
UID:6533-1773849600-1773856800@ysgolbrogwaun.com
SUMMARY:Year 10 Progress Evening
DESCRIPTION:
URL:https://ysgolbrogwaun.com/calendar/year-10-progress-evening/
CATEGORIES:Blwyddyn/Year 10,Full School
END:VEVENT
BEGIN:VEVENT
DTSTART;TZID=Europe/London:20260325T123000
DTEND;TZID=Europe/London:20260325T150000
DTSTAMP:20260421T101122
CREATED:20260129T140408Z
LAST-MODIFIED:20260129T140408Z
UID:6541-1774441800-1774450800@ysgolbrogwaun.com
SUMMARY:Enrichment Day
DESCRIPTION:
URL:https://ysgolbrogwaun.com/calendar/enrichment-day-8/
CATEGORIES:Full School,School Timetable
END:VEVENT
BEGIN:VEVENT
DTSTART;TZID=Europe/London:20260326T170000
DTEND;TZID=Europe/London:20260326T190000
DTSTAMP:20260421T101122
CREATED:20260129T140334Z
LAST-MODIFIED:20260129T140334Z
UID:6539-1774544400-1774551600@ysgolbrogwaun.com
SUMMARY:Easter Bingo
DESCRIPTION:
URL:https://ysgolbrogwaun.com/calendar/easter-bingo/
CATEGORIES:Full School
END:VEVENT
BEGIN:VEVENT
DTSTART;VALUE=DATE:20260330
DTEND;VALUE=DATE:20260413
DTSTAMP:20260421T101122
CREATED:20260312T130231Z
LAST-MODIFIED:20260312T130231Z
UID:6579-1774828800-1776038399@ysgolbrogwaun.com
SUMMARY:Easter Holidays
DESCRIPTION:
URL:https://ysgolbrogwaun.com/calendar/easter-holidays-2/
CATEGORIES:Full School,School Timetable
END:VEVENT
BEGIN:VEVENT
DTSTART;TZID=Europe/London:20260415T173000
DTEND;TZID=Europe/London:20260415T193000
DTSTAMP:20260421T101122
CREATED:20260312T140126Z
LAST-MODIFIED:20260415T084456Z
UID:6593-1776274200-1776281400@ysgolbrogwaun.com
SUMMARY:Certificate Evening
DESCRIPTION:
URL:https://ysgolbrogwaun.com/calendar/certificate-evening/
CATEGORIES:Full School
END:VEVENT
BEGIN:VEVENT
DTSTART;TZID=Europe/London:20260422T123000
DTEND;TZID=Europe/London:20260422T150000
DTSTAMP:20260421T101122
CREATED:20260312T140425Z
LAST-MODIFIED:20260312T140425Z
UID:6595-1776861000-1776870000@ysgolbrogwaun.com
SUMMARY:Summer Enrichment
DESCRIPTION:
URL:https://ysgolbrogwaun.com/calendar/summer-enrichment/
CATEGORIES:Full School,School Timetable
END:VEVENT
BEGIN:VEVENT
DTSTART;VALUE=DATE:20260504
DTEND;VALUE=DATE:20260505
DTSTAMP:20260421T101122
CREATED:20260312T145042Z
LAST-MODIFIED:20260312T145042Z
UID:6609-1777852800-1777939199@ysgolbrogwaun.com
SUMMARY:Bank Holiday
DESCRIPTION:
URL:https://ysgolbrogwaun.com/calendar/bank-holiday-2/
CATEGORIES:Full School,School Timetable
END:VEVENT
BEGIN:VEVENT
DTSTART;TZID=Europe/London:20260506T123000
DTEND;TZID=Europe/London:20260506T150000
DTSTAMP:20260421T101122
CREATED:20260312T145256Z
LAST-MODIFIED:20260420T091734Z
UID:6613-1778070600-1778079600@ysgolbrogwaun.com
SUMMARY:Summer Enrichment
DESCRIPTION:
URL:https://ysgolbrogwaun.com/calendar/summer-enrichment-2/
CATEGORIES:Full School,School Timetable
END:VEVENT
BEGIN:VEVENT
DTSTART;VALUE=DATE:20260513
DTEND;VALUE=DATE:20260514
DTSTAMP:20260421T101122
CREATED:20260420T124932Z
LAST-MODIFIED:20260420T124932Z
UID:6658-1778630400-1778716799@ysgolbrogwaun.com
SUMMARY:County Sports
DESCRIPTION:
URL:https://ysgolbrogwaun.com/calendar/county-sports-2/
CATEGORIES:Full School
END:VEVENT
BEGIN:VEVENT
DTSTART;TZID=Europe/London:20260520T123000
DTEND;TZID=Europe/London:20260520T150000
DTSTAMP:20260421T101122
CREATED:20260420T125037Z
LAST-MODIFIED:20260420T125044Z
UID:6660-1779280200-1779289200@ysgolbrogwaun.com
SUMMARY:Summer Enrichment
DESCRIPTION:
URL:https://ysgolbrogwaun.com/calendar/summer-enrichment-3/
CATEGORIES:Full School,School Timetable
END:VEVENT
BEGIN:VEVENT
DTSTART;VALUE=DATE:20260522
DTEND;VALUE=DATE:20260523
DTSTAMP:20260421T101122
CREATED:20260420T125106Z
LAST-MODIFIED:20260420T125106Z
UID:6662-1779408000-1779494399@ysgolbrogwaun.com
SUMMARY:Year 11 Leaving Day
DESCRIPTION:
URL:https://ysgolbrogwaun.com/calendar/year-11-leaving-day/
CATEGORIES:Blwyddyn/Year 11,Full School,School Timetable
END:VEVENT
BEGIN:VEVENT
DTSTART;VALUE=DATE:20260523
DTEND;VALUE=DATE:20260601
DTSTAMP:20260421T101122
CREATED:20260420T124712Z
LAST-MODIFIED:20260420T124721Z
UID:6656-1779494400-1780271999@ysgolbrogwaun.com
SUMMARY:Half Term
DESCRIPTION:
URL:https://ysgolbrogwaun.com/calendar/half-term/
CATEGORIES:Full School
END:VEVENT
BEGIN:VEVENT
DTSTART;VALUE=DATE:20260609
DTEND;VALUE=DATE:20260610
DTSTAMP:20260421T101122
CREATED:20260420T130208Z
LAST-MODIFIED:20260420T130208Z
UID:6670-1780963200-1781049599@ysgolbrogwaun.com
SUMMARY:Dyfed Athletics Championship
DESCRIPTION:
URL:https://ysgolbrogwaun.com/calendar/dyfed-athletics-championship-2/
CATEGORIES:Full School
END:VEVENT
BEGIN:VEVENT
DTSTART;VALUE=DATE:20260619
DTEND;VALUE=DATE:20260620
DTSTAMP:20260421T101122
CREATED:20260420T130700Z
LAST-MODIFIED:20260420T130700Z
UID:6677-1781827200-1781913599@ysgolbrogwaun.com
SUMMARY:INSET DAY
DESCRIPTION:
URL:https://ysgolbrogwaun.com/calendar/inset-day/
CATEGORIES:Full School,School Timetable
END:VEVENT
END:VCALENDAR